BEGIN:VCALENDAR
VERSION:2.0
METHOD:PUBLISH
BEGIN:VEVENT
UID:WILD_APRICOT_EVENT_753001_SESSION_1
DTSTART:20130920T140000Z
DTEND:20131019T130000Z
SUMMARY:Artists Showcase
LOCATION:iKew Centre\, Kew NSW
DESCRIPTION:https://www.camdenhaveninfo.org.au/event-753001\n\n\n\n     \n Come along to the iKew Centre and enjoy a combined Art exhibit of water colours and mixed media by local artists:\n   Ann Middleton\,\n  Eileen Ward and\n  Barbara Atkins.\n    This exhibition will be held from 21st September to 19th October\, ’13 in the Ikew Gallery.\n     \n   \n   \n   \n   \n   \n   \n   \n   \n   \n
DTSTAMP:20190301T004635Z
END:VEVENT
END:VCALENDAR
