BEGIN:VCALENDAR
VERSION:2.0
METHOD:PUBLISH
BEGIN:VEVENT
UID:WILD_APRICOT_EVENT_752997_SESSION_1
DTSTART:20130908T140000Z
DTEND:20130914T140000Z
SUMMARY:C.W.A. Awareness Week Exhibition
LOCATION:iKew Centre\, Kew NSW
DESCRIPTION:https://www.camdenhaveninfo.org.au/event-752997\n\n              This month is C.W.A. Awareness week which will be in the gallery from 9th September to 14th September\, there will be on display crafts\, books depicting the Country of Study\, poems\, the latest C.W.A. cook books (orders can be taken)\n  \n \n \n\n
DTSTAMP:20190301T004646Z
END:VEVENT
END:VCALENDAR
