BEGIN:VCALENDAR
VERSION:2.0
METHOD:PUBLISH
BEGIN:VEVENT
UID:WILD_APRICOT_EVENT_703664_SESSION_1
DTSTART:20130630T140000Z
DTEND:20130808T140000Z
SUMMARY:David Little Exhibition- "Art by Little"
LOCATION:The Event Venue
DESCRIPTION:https://www.camdenhaveninfo.org.au/event-703664\n\n \n  The iKew is pleased to announce the exhibition of local artwork by David Little.\n  Art by Little is a gallery of oil paintings by David Little featuring local and other Australia landscapes.\n  David's paintings can also be viewed on his website:\n  www.theartshow.net.au\n  Click on "Art Shows"\, then click on "Kendall NSW"\n  You can find out more about David here!\n\n \n \n\n
DTSTAMP:20190301T004657Z
END:VEVENT
END:VCALENDAR
