BEGIN:VCALENDAR
VERSION:2.0
METHOD:PUBLISH
BEGIN:VEVENT
UID:WILD_APRICOT_EVENT_3280679_SESSION_1
DTSTART:20190312T063000Z
DTEND:20190312T080000Z
SUMMARY:Understanding the Digital Landscape for Business
LOCATION:Laurieton United Services Club
DESCRIPTION:https://www.camdenhaveninfo.org.au/event-3280679\n\nHosted by the Camden Haven Chamber of Commerce and delivered by Digital Marketing Specialist Karina Schiller\, this seminar will help you understand how you can use the digital landscape to more effectively reach your customers.\n  This seminar will cover:\n  • What business owners are doing now to reach customers\n  • Data and digital trends in Australia\n  • Micro moments (very cool digital concept to chat and discuss)\n  • Benefits of being online\, having a website on mobile etc - Client Goals and how they achieved a great ROI\n  • Case Study - Difference between a good vs bad website\n  • Q&A\n  We encourage all local business owners to consider registering for this event. You do not need to be a member of the Camden Haven Chamber of Commerce to register for this event.\n  Date: Tuesday 12th March\n  Time: 5:30pm-7:00pm\n  Cost: $25 per person – includes $25 advertising voucher for Australian Community Media Digital Products\n  Location: Laurieton United Services Club\n  \n\n  CLICK HERE to BOOK NOW!\n    For more information contact executive.officer.chcc@gmail.com.\n  \n\n
DTSTAMP:20190301T003811Z
END:VEVENT
END:VCALENDAR
