BEGIN:VCALENDAR
VERSION:2.0
METHOD:PUBLISH
BEGIN:VEVENT
UID:WILD_APRICOT_EVENT_3142328_SESSION_1
DTSTART:20181202T050000Z
DTEND:20181202T073000Z
SUMMARY:Chamber + TMC Christmas Party
LOCATION:Laurieton Hotel
DESCRIPTION:https://www.camdenhaveninfo.org.au/event-3142328\n\n\n  Camden Haven Chamber of Commerce \n and Tourism Marketing Co-op\n  CHRISTMAS PARTY\n  Sunday\, 2nd December 2018\n  Laurieton Hotel\n\n  Chamber members and their partners are warmly invited to join us in celebrating the festive season on Sunday 2nd of December from 4pm at the Laurieton Hotel.\n  Enjoy drinks and finger food - and great company! - provided with our compliments.\n  RSVP is essential for catering purposes – please rsvp by 9am Friday 30th November either via our website or by emailing executive.officer.chcc@gmail.com.\n  For more information please contact our Executive Officer\, Marisha Woods\, at executive.officer.CHCC@gmail or 0400467848.\n  \n\n  Kind regards\,\n  Sue East\nPresident\nCamden Haven Chamber of Commerce\, Tourism and Industry.\n   \n  \n\n
DTSTAMP:20190301T003919Z
END:VEVENT
END:VCALENDAR
