BEGIN:VCALENDAR
VERSION:2.0
METHOD:PUBLISH
BEGIN:VEVENT
UID:WILD_APRICOT_EVENT_3138671_SESSION_1
DTSTART:20181204T213000Z
DTEND:20181205T060000Z
SUMMARY:Digital Marketing Boot Camp
LOCATION:Laurieton United Services Club
DESCRIPTION:https://www.camdenhaveninfo.org.au/event-3138671\n\n\n\n  DIGITAL MARKETING BOOT CAMP\n  Wednesday\, 5th December 2018\n  Laurieton United Services Club\n\n  The Camden Haven Chamber of Commerce Tourism and Industry is very excited to announce it is bringing the Business Connect Program to the Camden Haven!\n\n  In partnership with NORTEC\, the Chamber will be hosting a Digital Marketing Boot Camp on Wednesday 5th December 2018 via the Business Connect Program.\n\n  Based on the results of our recent Digital Marketing survey\, we have worked with Business Advisor\, Derek Tink\, to tailor two workshops to meet the needs of our members and Camden Haven businesses.\n\n  In addition to the Boot Camp\, members will have access to one-on-one sessions with the Business Advisor on Thursday 6th of December and in the future.\n\n  The Business Connect Program is a fantastic program heavily subsidised by the NSW State Government making it very affordable for all business owners to access high quality support.\n\n  THE BOOT CAMP:\n  Workshop 1 – Digital Skills – SEO & Analytics\nSimple ways to expand your online presence. What is Search Engine Optimisation? What is Analytics?\nTime: 8:30 arrival for 9am start – 12pm\n Cost: $25 (value approx.$200)\nRegister: CLICK HERE to register\n\n  Workshop 2 – Social Media\nPlanning\, tools\, skills and delivery\nTime: 2pm – 5pm\n Cost: $25 (value approx.$200)\n Register: CLICK HERE to register\n\n  The two workshops will ‘interlock’\, providing you with access to a range of information\, skills development and tools including the Business Connect – Business Health Check\, Online Presence Check\, Social Media Check tools.\n\n  ONE-ON-ONE & ON-GOING SUPPORT:\n  When you register with the Business Connect Program you will have access to 4 hours of one-on-one time with a Business Advisor fully subsidised! Further advisory sessions are available at a heavily subsidised rate of only $25 per hour.\n\n  For more information please contact our Executive Officer\, Marisha Woods\, at executive.officer.CHCC@gmail or 0400467848.\n  \n\n
DTSTAMP:20190301T003823Z
END:VEVENT
END:VCALENDAR
