BEGIN:VCALENDAR
VERSION:2.0
METHOD:PUBLISH
BEGIN:VEVENT
UID:WILD_APRICOT_EVENT_3108362_SESSION_1
DTSTART:20181114T070000Z
DTEND:20181114T080000Z
SUMMARY:Annual General Meeting
LOCATION:Laurieton United Services Club
DESCRIPTION:https://www.camdenhaveninfo.org.au/event-3108362\n\n   Annual General Meeting \n    14th November 2018\n     \n    The Camden Haven Chamber of Commerce\, Industry and Tourism will hold it’s Annual General Meeting at the Laurieton United Services Club on Wednesday 14th November 2018 from 6pm.\n     \n    Committee member nominations\n    All positions are vacant. If you are interested in nominating for a position\, please complete the attached nomination form and return it by email to the Secretary at annambattersby@gmail.com by COB Wednesday 7th November 2018. If the number of nominations received exceeds the number of vacancies to be filled\, a ballot will be held.\n    Click here to download the Nomination Form.\n   \n\n    Agenda and previous minutes\n    Click here to view the Agenda.\n    Click here to view the previous minutes.\n     \n    Registration\n    For catering purposes\, please register your attendance through the Chamber website or by emailing executive.officer.chcc@gmail.com by 9am on Friday 9th November 2018.\n     \n     \n    We look forward to seeing you there!\n    Executive Committee\n   Camden Haven Chamber of Commerce\n 
DTSTAMP:20190301T003942Z
END:VEVENT
END:VCALENDAR
