BEGIN:VCALENDAR
VERSION:2.0
METHOD:PUBLISH
BEGIN:VEVENT
UID:WILD_APRICOT_EVENT_3103795_SESSION_1
DTSTART:20181030T070000Z
DTEND:20181030T090000Z
SUMMARY:Networking Night - Digital Marketing in Small Business
LOCATION:Laurieton United Services Club
DESCRIPTION:https://www.camdenhaveninfo.org.au/event-3103795\n\n\n  Digital Marketing for Small Business\n  Please join us for our second networking night on the hot topic ‘Digital Marketing for Small Business’.\n  The panel discussion will cover the role and relevance of digital marketing tools including Google AdWords\, Search Engine Optimisation (SEO)\, Social Media\, websites\, email marketing and TripAdvisor.\n  Date: Tuesday\, 30th October 2018\n Time: 6pm\n Venue: Mountain View Room - Laurieton United Services Club\n Cost: FREE event\n Registration: Please register via email to executive.officer.chcc@gmail.com.\n  Nibbles and drinks will be provided.\n  We look forward to seeing you there!\n  \n\n
DTSTAMP:20190301T004032Z
END:VEVENT
END:VCALENDAR
