BEGIN:VCALENDAR
VERSION:2.0
METHOD:PUBLISH
BEGIN:VEVENT
UID:WILD_APRICOT_EVENT_3013012_SESSION_1
DTSTART:20180815T080000Z
DTEND:20180815T100000Z
SUMMARY:General Meeting
LOCATION:North Haven Bowling Club
DESCRIPTION:https://www.camdenhaveninfo.org.au/event-3013012\n\nWe invite you to attend the next General Meeting to be held:\n  6pm\, Wednesday 15th August 2018\n Club North Haven\n  Guest Speaker:\n Kellon Beard (Regional Manager\, Mid North Coast\, NSW Business Chamber)\, will be presenting the Chamber Alliance Program Energy Opportunity. Come along and find out how you can reduce your business's energy costs!\n\n  Please join us for a great night! Nibbles will be provided.\n\n  Register by 12pm Wednesday 15th August via the Chamber website. \n  For further information\, please contact Marisha Woods - executive.officer.chcc@gmail.com. \n\n  \n \n\n
DTSTAMP:20190301T004131Z
END:VEVENT
END:VCALENDAR
