BEGIN:VCALENDAR
VERSION:2.0
METHOD:PUBLISH
BEGIN:VEVENT
UID:WILD_APRICOT_EVENT_2973374_SESSION_1
DTSTART:20180704T080000Z
DTEND:20180704T100000Z
SUMMARY:Customer Care Networking Night
LOCATION:Reflections Holiday Park\, North Haven
DESCRIPTION:https://www.camdenhaveninfo.org.au/event-2973374\n\n\n\n  The Camden Haven Chamber of Commerce invites the local business community to the Customer Care Networking Night. \n  A panel of five Camden Haven business owners will share the importance of customer care to the success of their business\, what they value as customer service essentials and any strategies they have in place to ensure customer care. \n  This will be a great night for Camden Haven businesses owners to get together\, exchange ideas about Customer Care and network!\n\n  Customer Care Panel:\n Jenelle Nosworthy - Miss Nellie's Cafe\n Kylie Johnson - Kylie's Art Supplies\n Pip Kelly - Reflections Holiday Park\, Bonny Hills\n Rachel O'Neill - Holiday Coast Credit Union\n Stewart O'Brien - First National North Haven\n  Nibbles and drinks will be provided.\n  Time: 6:00pm - 8:00pm\n Date: Wednesday 4th July 2018\n Location: Camp Kitchen - Reflections Holiday Park\, North Haven\n Cost: FREE\n  Places are limited!\n  Please RSVP by registering for this event or email Executive.Officer.CHCC@gmail.com.\n
DTSTAMP:20190301T004159Z
END:VEVENT
END:VCALENDAR
