BEGIN:VCALENDAR
VERSION:2.0
METHOD:PUBLISH
BEGIN:VEVENT
UID:WILD_APRICOT_EVENT_2951371_SESSION_1
DTSTART:20180630T080000Z
DTEND:20180630T080000Z
SUMMARY:The Great Billy Boiling Competition
LOCATION:Royal Hotel Kew
DESCRIPTION:https://www.camdenhaveninfo.org.au/event-2951371\n\n\n\n  On the 30th June 2018 from 6 pm Creek to Creek will host a Billy Boiling Competition at the Royal Hotel\, Kew.\n\n  Click here for more information about The Great Billy Boiling Competition.\n
DTSTAMP:20190301T004211Z
END:VEVENT
END:VCALENDAR
