BEGIN:VCALENDAR
VERSION:2.0
METHOD:PUBLISH
BEGIN:VEVENT
UID:WILD_APRICOT_EVENT_2943670_SESSION_1
DTSTART:20180528T230000Z
DTEND:20180529T010000Z
SUMMARY:Weekly Drop-in Session
LOCATION:Dunbogan Boatshed and Marina
DESCRIPTION:https://www.camdenhaveninfo.org.au/event-2943670\n\nEvery Tuesday morning from 9am-11am the Chamber's Executive Officer (Marisha Woods) will be working remotely from a member's business. \n  Pop by for a cuppa and chat!\n
DTSTAMP:20190301T004304Z
END:VEVENT
END:VCALENDAR
