BEGIN:VCALENDAR
VERSION:2.0
METHOD:PUBLISH
BEGIN:VEVENT
UID:WILD_APRICOT_EVENT_2918874_SESSION_1
DTSTART:20180511T223000Z
DTEND:20180512T040000Z
SUMMARY:Bookends Book Sale
LOCATION:Kendall Community Hall
DESCRIPTION:https://www.camdenhaveninfo.org.au/event-2918874\n\nMASSIVE BOOK SALE\n Where:  Kendall Community Hall\n When:   Saturday May 12th\n Time:    8.30am to 2pm\n Prices:   Bring a shopping bag and fill it with books for $5\n Food:   Cappuccinos and Devonshire teas available at Meeting Place Cafe beside the Hall.\n Profits go back into the Kendall Community Centre\n\n
DTSTAMP:20190301T004416Z
END:VEVENT
END:VCALENDAR
