BEGIN:VCALENDAR
VERSION:2.0
METHOD:PUBLISH
BEGIN:VEVENT
UID:WILD_APRICOT_EVENT_2898512_SESSION_1
DTSTART:20180519T230000Z
DTEND:20180520T050000Z
SUMMARY:Paddle and Plod - Creek to Creek Queens Lake Trail
LOCATION:Henry Kendall Reserve
DESCRIPTION:https://www.camdenhaveninfo.org.au/event-2898512\n\nA 3.5 Km paddle around Queens Lake then a 3.2 Km Plod (Run or Walk ) to Henry Kendall Reserve for fun activities. Sausage sizzle and drinks will be available. Challenge yourself or challenge a friend!\n\n  CLICK HERE for more information.\n
DTSTAMP:20190301T004334Z
END:VEVENT
END:VCALENDAR
