BEGIN:VCALENDAR
VERSION:2.0
METHOD:PUBLISH
BEGIN:VEVENT
UID:WILD_APRICOT_EVENT_2875479_SESSION_1
DTSTART:20180914T140000Z
DTEND:20180915T140000Z
SUMMARY:Kendall National Violin Competition
LOCATION:
DESCRIPTION:https://www.camdenhaveninfo.org.au/event-2875479\n\nFor more information on the Kendall National Violin Competition\, CLICK HERE.\n
DTSTAMP:20190301T004055Z
END:VEVENT
END:VCALENDAR
