BEGIN:VCALENDAR
VERSION:2.0
METHOD:PUBLISH
BEGIN:VEVENT
UID:WILD_APRICOT_EVENT_2859004_SESSION_1
DTSTART:20180818T140000Z
DTEND:20180819T140000Z
SUMMARY:Camden Haven King of the Mountain
LOCATION:
DESCRIPTION:https://www.camdenhaveninfo.org.au/event-2859004\n\nFor more information\, CLICK HERE.\n
DTSTAMP:20190301T004118Z
END:VEVENT
END:VCALENDAR
