BEGIN:VCALENDAR
VERSION:2.0
METHOD:PUBLISH
BEGIN:VEVENT
UID:WILD_APRICOT_EVENT_2858983_SESSION_1
DTSTART:20180608T230000Z
DTEND:20180610T053000Z
SUMMARY:Camden Haven Orchid Society Show
LOCATION:Laurieton United Services Club
DESCRIPTION:https://www.camdenhaveninfo.org.au/event-2858983\n\n\n\n
DTSTAMP:20190301T004233Z
END:VEVENT
END:VCALENDAR
