BEGIN:VCALENDAR
VERSION:2.0
METHOD:PUBLISH
BEGIN:VEVENT
UID:WILD_APRICOT_EVENT_2858971_SESSION_1
DTSTART:20180518T140000Z
DTEND:20180520T140000Z
SUMMARY:North Coast Junior Masters (Golf)
LOCATION:Kew Golf Club
DESCRIPTION:https://www.camdenhaveninfo.org.au/event-2858971\n\nFor more information about the North Coast Junior Masters\, CLICK HERE.\n
DTSTAMP:20190301T004403Z
END:VEVENT
END:VCALENDAR
