BEGIN:VCALENDAR
VERSION:2.0
METHOD:PUBLISH
BEGIN:VEVENT
UID:WILD_APRICOT_EVENT_2858962_SESSION_1
DTSTART:20180527T000000Z
DTEND:20180527T060000Z
SUMMARY:Slice of Haven
LOCATION:
DESCRIPTION:https://www.camdenhaveninfo.org.au/event-2858962\n\nFor more information\, visit the Slice of Haven Website.\n
DTSTAMP:20190301T004321Z
END:VEVENT
END:VCALENDAR
