BEGIN:VCALENDAR
VERSION:2.0
METHOD:PUBLISH
BEGIN:VEVENT
UID:WILD_APRICOT_EVENT_2858958_SESSION_1
DTSTART:20180505T140000Z
DTEND:20180506T140000Z
SUMMARY:Ironman 70.3 Port Macquarie
LOCATION:
DESCRIPTION:https://www.camdenhaveninfo.org.au/event-2858958\n\nFor more information on Ironman 70.3 Port Macquarie\, CLICK HERE.\n
DTSTAMP:20190301T004427Z
END:VEVENT
END:VCALENDAR
