BEGIN:VCALENDAR
VERSION:2.0
METHOD:PUBLISH
BEGIN:VEVENT
UID:WILD_APRICOT_EVENT_2858950_SESSION_1
DTSTART:20180415T140000Z
DTEND:20180416T140000Z
SUMMARY:89th Women's Inter-School Golf Challenge Cup
LOCATION:Kew Golf Club
DESCRIPTION:https://www.camdenhaveninfo.org.au/event-2858950\n\nFor more information\, visit the Women's Inter-School Golf Webpage. \n
DTSTAMP:20190301T004438Z
END:VEVENT
END:VCALENDAR
