BEGIN:VCALENDAR
VERSION:2.0
METHOD:PUBLISH
BEGIN:VEVENT
UID:WILD_APRICOT_EVENT_2858942_SESSION_1
DTSTART:20180714T220000Z
DTEND:20180715T030000Z
SUMMARY:Laurieton Riverwalk Markets
LOCATION:Tunis St\, Laurieton
DESCRIPTION:https://www.camdenhaveninfo.org.au/event-2858942\n\nMarkets operate between 8:00am and 1:00pm. We have a huge variety of goods on offer. Plants\, Food and coffee\, clothing\, second hand tools\, jewellery and buskers for your entertainment to mention a few. Why not make a day of it and visit the lovely Camden Haven area and enjoy this great market day.\n\n  Visit the Laurieton Riverwalk Market Facebook page for more information.\n
DTSTAMP:20190301T004146Z
END:VEVENT
END:VCALENDAR
