BEGIN:VCALENDAR
VERSION:2.0
METHOD:PUBLISH
BEGIN:VEVENT
UID:WILD_APRICOT_EVENT_1857817_SESSION_1
DTSTART:20150305T200000Z
DTEND:20150305T200000Z
SUMMARY:International 'Women's Day Breakfast
LOCATION:Laurieton United Serves Club (LUSC)
DESCRIPTION:https://www.camdenhaveninfo.org.au/event-1857817\n\n  International \n  Women's Day Breakfast\n  \n\n  \n\n  Presented by Quota International Camden Haven\n  with Guest Speaker \n  Wendy Hudson\n  Time: 7.15am for a 7.30am start.\n  Tickets must be purchased by the 2nd March 2015\n  Tickets available at the LUSC \n  Cost:$20\n  Special event to be held on the morning of the breakfast- \n  Quotarian Val Green will raise funds for the Leukaemia Foundation through the "World's Greatest Shave"!\n  \n\n  \n\n
DTSTAMP:20190301T004512Z
END:VEVENT
END:VCALENDAR
